BEGIN:VCALENDAR
VERSION:2.0
PRODID:-//Munro Hampton Alumni Florida Inc. - ECPv6.15.20//NONSGML v1.0//EN
CALSCALE:GREGORIAN
METHOD:PUBLISH
X-WR-CALNAME:Munro Hampton Alumni Florida Inc.
X-ORIGINAL-URL:https://munrohamptonflorida.org
X-WR-CALDESC:Events for Munro Hampton Alumni Florida Inc.
REFRESH-INTERVAL;VALUE=DURATION:PT1H
X-Robots-Tag:noindex
X-PUBLISHED-TTL:PT1H
BEGIN:VTIMEZONE
TZID:UTC
BEGIN:STANDARD
TZOFFSETFROM:+0000
TZOFFSETTO:+0000
TZNAME:UTC
DTSTART:20250101T000000
END:STANDARD
END:VTIMEZONE
BEGIN:VEVENT
DTSTART;TZID=UTC:20260411T130000
DTEND;TZID=UTC:20260411T180000
DTSTAMP:20260423T142209
CREATED:20260331T224226Z
LAST-MODIFIED:20260331T224226Z
UID:1720-1775912400-1775930400@munrohamptonflorida.org
SUMMARY:FUN-N-SUN REUNION 2026
DESCRIPTION:Preorder here\nWhen: Saturday April 11\, 2026 \nTime:  1-6 p.m. \nWhere:  CB Smith Park\, Pavilion 7 – 900 N Flamingo Rd\, Pembroke Pines FL 33028 \nAdmission:  $35 (includes a meal)   \n  \n  \n 
URL:https://munrohamptonflorida.org/event/fun-n-sun-reunion-2026/
LOCATION:CB Smith Park – Pavilion 7\, 900 N. Flamingo Road\, Pembroke Pines\, FL\, 33028\, United States
CATEGORIES:Picnic
ATTACH;FMTTYPE=image/jpeg:https://munrohamptonflorida.org/wp-content/uploads/2026/03/Flyer-final.jpg
ORGANIZER;CN="Munro Hampton Alumni Florida":MAILTO:info@munrohamptonflorida.org
END:VEVENT
END:VCALENDAR